BEGIN:VCALENDAR
VERSION:2.0
PRODID:-//SVP Nidwalden//votesvp.today//DE
CALSCALE:GREGORIAN
METHOD:PUBLISH
BEGIN:VTIMEZONE
TZID:Europe/Zurich
BEGIN:DAYLIGHT
TZOFFSETFROM:+0100
TZOFFSETTO:+0200
TZNAME:CEST
DTSTART:19700329T020000
RRULE:FREQ=YEARLY;BYMONTH=3;BYDAY=-1SU
END:DAYLIGHT
BEGIN:STANDARD
TZOFFSETFROM:+0200
TZOFFSETTO:+0100
TZNAME:CET
DTSTART:19701025T030000
RRULE:FREQ=YEARLY;BYMONTH=10;BYDAY=-1SU
END:STANDARD
END:VTIMEZONE
BEGIN:VEVENT
UID:svp-2@votesvp.today
DTSTAMP:20260420T102404Z
DTSTART;TZID=Europe/Zurich:20260115T190000
DTEND;TZID=Europe/Zurich:20260115T220000
SUMMARY:Wahlauftakt mit Peter Föhn
DESCRIPTION:Grosser Wahlauftakt mit Ständerat Peter Föhn. Als langjähr
 iger Ständerat und erfahrener Politiker gibt Peter Föhn Einblicke in d
 ie aktuellen politischen Herausforderungen und unterstützt unsere Kand
 idaten.\n\nhttps://votesvp.today/veranstaltungen/wahlauftakt-peter-foe
 hn
LOCATION:Restaurant Engel\, Stans
URL:https://votesvp.today/veranstaltungen/wahlauftakt-peter-foehn
STATUS:CONFIRMED
TRANSP:OPAQUE
END:VEVENT
END:VCALENDAR
