BEGIN:VCALENDAR
VERSION:2.0
PRODID:-//SVP Nidwalden//votesvp.today//DE
CALSCALE:GREGORIAN
METHOD:PUBLISH
BEGIN:VTIMEZONE
TZID:Europe/Zurich
BEGIN:DAYLIGHT
TZOFFSETFROM:+0100
TZOFFSETTO:+0200
TZNAME:CEST
DTSTART:19700329T020000
RRULE:FREQ=YEARLY;BYMONTH=3;BYDAY=-1SU
END:DAYLIGHT
BEGIN:STANDARD
TZOFFSETFROM:+0200
TZOFFSETTO:+0100
TZNAME:CET
DTSTART:19701025T030000
RRULE:FREQ=YEARLY;BYMONTH=10;BYDAY=-1SU
END:STANDARD
END:VTIMEZONE
BEGIN:VEVENT
UID:16@votesvp.today
DTSTAMP:20260420T102254Z
DTSTART;TZID=Europe/Zurich:20251214T160000
DTEND;TZID=Europe/Zurich:20251214T190000
SUMMARY:Adventsapéro SVP Nidwalden
DESCRIPTION:Gemütlicher Adventsapéro zum Jahresausklang mit allen Mitg
 liedern und Sympathisanten.\n\nhttps://votesvp.today/veranstaltungen/a
 dventsapero-2025
LOCATION:Restaurant Engel\, Engelbergstrasse 10\, Stans
URL:https://votesvp.today/veranstaltungen/adventsapero-2025
STATUS:CONFIRMED
TRANSP:OPAQUE
END:VEVENT
END:VCALENDAR
